BEGIN:VCALENDAR
VERSION:2.0
PRODID:-//Alabama Cooperative Extension System - ECPv6.2.5//NONSGML v1.0//EN
CALSCALE:GREGORIAN
METHOD:PUBLISH
X-ORIGINAL-URL:https://www.aces.edu
X-WR-CALDESC:Events for Alabama Cooperative Extension System
REFRESH-INTERVAL;VALUE=DURATION:PT1H
X-Robots-Tag:noindex
X-PUBLISHED-TTL:PT1H
BEGIN:VTIMEZONE
TZID:America/Chicago
BEGIN:DAYLIGHT
TZOFFSETFROM:-0600
TZOFFSETTO:-0500
TZNAME:CDT
DTSTART:20250309T080000
END:DAYLIGHT
BEGIN:STANDARD
TZOFFSETFROM:-0500
TZOFFSETTO:-0600
TZNAME:CST
DTSTART:20251102T070000
END:STANDARD
END:VTIMEZONE
BEGIN:VEVENT
DTSTART;TZID=America/Chicago:20250813T173000
DTEND;TZID=America/Chicago:20250813T203000
DTSTAMP:20260422T091724
CREATED:20250613T192554Z
LAST-MODIFIED:20250807T011031Z
UID:10003430-1755106200-1755117000@www.aces.edu
SUMMARY:2025 Essentials of Farm Taxes and Estate Planning Seminar
DESCRIPTION:Educational seminar covering farm tax strategies and basic estate planning \n The Alabama Cooperative Extension System (Alabama A&M University and Auburn University) is an equal opportunity educator\, employer\, and provider. If you need a reasonable accommodation or free language access services\, contact Dennis Brothers at 205-456-0414 or brothers@auburn.edu by 7/23/2025. \nAddress:Blount County Multipurpose Center6700 County Road 1Cleveland\, AL 35049 \nContact:Dennis Brothersbrothers@auburn.edu(205) 456-0414 \nRegister Online
URL:https://www.aces.edu/event/2025-essentials-of-farm-taxes-and-estate-planning-seminar/
LOCATION:Blount County Multipurpose Center\, 6700 County Road 1\, Cleveland\, AL\, 35049\, US
ORGANIZER;CN="Dennis Brothers":MAILTO:brothers@auburn.edu
END:VEVENT
BEGIN:VEVENT
DTSTART;TZID=America/Chicago:20250814T100000
DTEND;TZID=America/Chicago:20250814T110000
DTSTAMP:20260422T091724
CREATED:20250811T184517Z
LAST-MODIFIED:20250820T205509Z
UID:10003671-1755165600-1755169200@www.aces.edu
SUMMARY:Right Bite Healthy Eating  with Diabetes
DESCRIPTION:A multi-session program to help participants learn meal planning and food preparation methods to reduce calories\, control carbohydrates\, modify fats and increase fiber so those affected by diabetes can manage their blood glucose and blood pressure. \n The Alabama Cooperative Extension System (Alabama A&M University and Auburn University) is an equal opportunity educator\, employer\, and provider. If you need a reasonable accommodation or free language access services\, contact Elaine Softley at 256-324-2851 or kes0021@aces.edu by 7/17/2025. \nThis event has multiple sessions: \n\nSession 1 – August 7\, 2025 at 10:00 AM to 11:00 AM\nSession 2 – August 14\, 2025 at 10:00 AM to 11:00 AM\nSession 3 – August 21\, 2025 at 10:00 AM to 11:00 AM\nSession 4 – August 28\, 2025 at 10:00 AM to 11:00 AM\n\nAddress:Lamar County Extension Office281 Columbus Avenue NorthwestVernon\, AL 35592 \nContact:Elaine Softleykes0021@aces.edu(256) 324-2851 \nRegister Online
URL:https://www.aces.edu/event/right-bite-healthy-eating-with-diabetes-3/
LOCATION:United States
END:VEVENT
BEGIN:VEVENT
DTSTART;TZID=America/Chicago:20250814T120000
DTEND;TZID=America/Chicago:20250814T143000
DTSTAMP:20260422T091724
CREATED:20250728T184513Z
LAST-MODIFIED:20250813T204536Z
UID:10003598-1755172800-1755181800@www.aces.edu
SUMMARY:Alabama Cottage Food Safety Training Madison County (Huntsville)
DESCRIPTION:This course meets the food safety training requirement of the ADPH for people who want to sell non-hazardous foods from their home as a Cottage Food Business.  The certification is good for 3 years. You must register before class.  \n The Alabama Cooperative Extension System (Alabama A&M University and Auburn University) is an equal opportunity educator\, employer\, and provider. If you need a reasonable accommodation or free language access services\, contact Christy Nissen Mendoza at 2052176495 or cnm0012@auburn.edu by 7/24/2025. \nAddress:Madison County Extension OfficeMadison County Extension Office819 Cook Ave\, AL 35801 \nContact:Christy Nissen Mendozacnm0012@auburn.edu(205) 217-6495 \nRegister Online
URL:https://www.aces.edu/event/alabama-cottage-food-safety-training-madison-county-huntsville/
LOCATION:Madison County Extension Office\, Madison County Extension Office\, 819 Cook Ave\, AL\, 35801\, US
ORGANIZER;CN="Christy Nissen Mendoza":MAILTO:cnm0012@auburn.edu
END:VEVENT
BEGIN:VEVENT
DTSTART;TZID=America/Chicago:20250815T110000
DTEND;TZID=America/Chicago:20250815T130000
DTSTAMP:20260422T091724
CREATED:20250725T184511Z
LAST-MODIFIED:20250807T011054Z
UID:10003591-1755255600-1755262800@www.aces.edu
SUMMARY:Be Ready\, Lowndes County
DESCRIPTION:Teaching severe weather preparedness to senior citizens and providing them with training and use of a free NOAA Weather Radio. \n The Alabama Cooperative Extension System (Alabama A&M University and Auburn University) is an equal opportunity educator\, employer\, and provider. If you need a reasonable accommodation or free language access services\, contact Tana Shealey at 334-548-2315 or tshealey@auburn.edu by 7/25/2025. \nAddress:Beulah Primitive Baptist Church3304 County Road 37Hope Hull\, AL 36043 \nContact:Tana Shealeytshealey@auburn.edu(334) 548-2315 \nRegister Online
URL:https://www.aces.edu/event/be-ready-lowndes-county-2/
LOCATION:Beulah Primitive Baptist Church\, 3304 County Road 37\, Hope Hull\, AL\, 36043\, US
ORGANIZER;CN="Tana Shealey":MAILTO:tshealey@auburn.edu
END:VEVENT
BEGIN:VEVENT
DTSTART;TZID=America/Chicago:20250816T100000
DTEND;TZID=America/Chicago:20250816T120000
DTSTAMP:20260422T091724
CREATED:20250625T184514Z
LAST-MODIFIED:20250807T011045Z
UID:10003495-1755338400-1755345600@www.aces.edu
SUMMARY:Propagating & Painting
DESCRIPTION:Paint\, propagate\, and plant! Learn the secrets of propagating houseplants with Alabama Extension agent\, Lilly Oaks\, while designing your own flower pot and taking home a new plant friend. \n The Alabama Cooperative Extension System (Alabama A&M University and Auburn University) is an equal opportunity educator\, employer\, and provider. If you need a reasonable accommodation or free language access services\, contact Lilly Oaks  at 256-701-3551 or lilly.oaks@auburn.edu by 7/26/2025. \nAddress:Madison County Extension Office819 Cook Avenue NWHuntsville\, AL 35801 \nContact:Lilly Oakslilly.oaks@auburn.edu(256) 701-3551 \nRegister Online
URL:https://www.aces.edu/event/propagating-painting/
LOCATION:Madison County Extension Office\, 819 Cook Avenue NW\, Huntsville\, AL\, 35801\, US
ORGANIZER;CN="Lilly Oaks":MAILTO:lilly.oaks@auburn.edu
END:VEVENT
END:VCALENDAR