BEGIN:VCALENDAR
VERSION:2.0
PRODID:-//Alabama Cooperative Extension System - ECPv6.2.5//NONSGML v1.0//EN
CALSCALE:GREGORIAN
METHOD:PUBLISH
X-ORIGINAL-URL:https://www.aces.edu
X-WR-CALDESC:Events for Alabama Cooperative Extension System
REFRESH-INTERVAL;VALUE=DURATION:PT1H
X-Robots-Tag:noindex
X-PUBLISHED-TTL:PT1H
BEGIN:VTIMEZONE
TZID:America/Chicago
BEGIN:DAYLIGHT
TZOFFSETFROM:-0600
TZOFFSETTO:-0500
TZNAME:CDT
DTSTART:20250309T080000
END:DAYLIGHT
BEGIN:STANDARD
TZOFFSETFROM:-0500
TZOFFSETTO:-0600
TZNAME:CST
DTSTART:20251102T070000
END:STANDARD
END:VTIMEZONE
BEGIN:VEVENT
DTSTART;TZID=America/Chicago:20250821T100000
DTEND;TZID=America/Chicago:20250821T110000
DTSTAMP:20260422T231428
CREATED:20250811T184518Z
LAST-MODIFIED:20250820T205509Z
UID:10003672-1755770400-1755774000@www.aces.edu
SUMMARY:Right Bite Healthy Eating  with Diabetes
DESCRIPTION:A multi-session program to help participants learn meal planning and food preparation methods to reduce calories\, control carbohydrates\, modify fats and increase fiber so those affected by diabetes can manage their blood glucose and blood pressure. \n The Alabama Cooperative Extension System (Alabama A&M University and Auburn University) is an equal opportunity educator\, employer\, and provider. If you need a reasonable accommodation or free language access services\, contact Elaine Softley at 256-324-2851 or kes0021@aces.edu by 7/17/2025. \nThis event has multiple sessions: \n\nSession 1 – August 7\, 2025 at 10:00 AM to 11:00 AM\nSession 2 – August 14\, 2025 at 10:00 AM to 11:00 AM\nSession 3 – August 21\, 2025 at 10:00 AM to 11:00 AM\nSession 4 – August 28\, 2025 at 10:00 AM to 11:00 AM\n\nAddress:Lamar County Extension Office281 Columbus Avenue NorthwestVernon\, AL 35592 \nContact:Elaine Softleykes0021@aces.edu(256) 324-2851 \nRegister Online
URL:https://www.aces.edu/event/right-bite-healthy-eating-with-diabetes-4/
LOCATION:United States
END:VEVENT
BEGIN:VEVENT
DTSTART;TZID=America/Chicago:20250821T100000
DTEND;TZID=America/Chicago:20250821T120000
DTSTAMP:20260422T231428
CREATED:20250814T174514Z
LAST-MODIFIED:20250820T205503Z
UID:10003684-1755770400-1755777600@www.aces.edu
SUMMARY:Rural Health Initiative: National Senior Citizens Day
DESCRIPTION:“National Senior Citizens Day” event will recognize older Americans and give them the opportunity to engage in hands-on activities\, hear educational speakers\, and tour the OnMed telehealth station. \n The Alabama Cooperative Extension System (Alabama A&M University and Auburn University) is an equal opportunity educator\, employer\, and provider. If you need a reasonable accommodation or free language access services\, contact Jovita J Lewis at 205-913-0606 or jones07@auburn.edu by 7/31/2025. \nAddress:Hale County Community Health and Wellness Care Station at Akron Public Library206 1st Avenue SouthAkron\, AL 35441 \nContact:Jovita J Lewisjones07@auburn.edu(205) 913-0606 \nRegister Online
URL:https://www.aces.edu/event/rural-health-initiative-national-senior-citizens-day/
LOCATION:Hale County Community Health and Wellness Care Station at Akron Public Library\, 206 1st Avenue South\, Akron\, AL\, 35441\, US
ORGANIZER;CN="Jovita J Lewis":MAILTO:jones07@auburn.edu
END:VEVENT
BEGIN:VEVENT
DTSTART;TZID=America/Chicago:20250821T100000
DTEND;TZID=America/Chicago:20250821T123000
DTSTAMP:20260422T231428
CREATED:20250723T154514Z
LAST-MODIFIED:20250821T233524Z
UID:10003572-1755770400-1755779400@www.aces.edu
SUMMARY:Cottage Food Law Course-Zoom
DESCRIPTION:This course meets ADPH training for starting a Cottage Food Business. Learn about Alabama laws\, approved foods\, sales locations\, labeling\, and food safety. Certification is valid for 3 years. Online only\, non-refundable\, non-transferable. Limit 40. \n The Alabama Cooperative Extension System (Alabama A&M University and Auburn University) is an equal opportunity educator\, employer\, and provider. If you need a reasonable accommodation or free language access services\, contact Rebecca Catalena at 2512341050 or rjc0026@auburn.edu by 7/31/2025. \nContact:Rebecca Catalenarjc0026@auburn.edu(251) 234-1050 \nRegister Online
URL:https://www.aces.edu/event/cottage-food-law-course-zoom-2/
LOCATION:Online\, Online\, AL\, US
ORGANIZER;CN="Rebecca Catalena":MAILTO:rjc0026@auburn.edu
END:VEVENT
BEGIN:VEVENT
DTSTART;TZID=America/Chicago:20250821T120000
DTEND;TZID=America/Chicago:20250821T130000
DTSTAMP:20260422T231428
CREATED:20250709T164521Z
LAST-MODIFIED:20250821T233527Z
UID:10003523-1755777600-1755781200@www.aces.edu
SUMMARY:Small Business Cafe: AI Tools\, Tips & Tricks for Entrepreneurs
DESCRIPTION:Are you an entrepreneur looking to leverage the power of Artificial Intelligence (AI) to drive your business forward? Join us for an insightful session led by Torin Darling-Brazzle\, Founder\, CEO\, and President of IGNITE! Central\, where we explore the latest AI tips\, tools\, and tricks tailored specifically for entrepreneurs.. \n The Alabama Cooperative Extension System (Alabama A&M University and Auburn University) is an equal opportunity educator\, employer\, and provider. If you need a reasonable accommodation or free language access services\, contact Dezymber Green at 256-975-6474 or dkg0018@aces.edu by 7/31/2025. \nContact:Dezymber Greendkg0018@aces.edu(256) 975-6474 \nRegister Online
URL:https://www.aces.edu/event/small-business-cafe-ai-tips-tools-tricks-for-entrepreneurs/
LOCATION:Online\, Online\, AL\, US
ORGANIZER;CN="Dezymber Green":MAILTO:dkg0018@aces.edu
END:VEVENT
BEGIN:VEVENT
DTSTART;TZID=America/Chicago:20250821T173000
DTEND;TZID=America/Chicago:20250822T105800
DTSTAMP:20260422T231428
CREATED:20250804T164518Z
LAST-MODIFIED:20250820T205523Z
UID:10003620-1755797400-1755860280@www.aces.edu
SUMMARY:URBAN GREEN:THIRD THURSDAY Workshop (simple water garden)
DESCRIPTION:Plant a waterlily or aquatic plant to add an aesthetic element to your landscape; a general horticulture workshop on culture\, set up and care. \n The Alabama Cooperative Extension System (Alabama A&M University and Auburn University) is an equal opportunity educator\, employer\, and provider. If you need a reasonable accommodation or free language access services\, contact hayes jackson at 256.543.1707 or jacksha@aces.edu by 7/31/2025. \nAddress:longleaf event center900 Museum DriveAnniston\, AL 36206 \nContact:hayes jacksonjacksha@aces.edu(256) 543-1707 \nRegister Online
URL:https://www.aces.edu/event/urban-greenthird-thursday-workshop-simple-water-garden/
LOCATION:longleaf event center\, 900 Museum Drive\, Anniston\, AL\, 36206\, US
ORGANIZER;CN="hayes jackson":MAILTO:jacksha@aces.edu
END:VEVENT
BEGIN:VEVENT
DTSTART;TZID=America/Chicago:20250821T180000
DTEND;TZID=America/Chicago:20250821T190000
DTSTAMP:20260422T231428
CREATED:20250728T164518Z
LAST-MODIFIED:20250823T123538Z
UID:10003595-1755799200-1755802800@www.aces.edu
SUMMARY:Right Bite
DESCRIPTION:Participants will learn meal planning and food preparation skills to reduce calories\, control carbohydrates\, modify fat\, and increase fiber so those affected by diabetes and/or hypertension an achieve better blood glucose and blood pressure control. \n The Alabama Cooperative Extension System (Alabama A&M University and Auburn University) is an equal opportunity educator\, employer\, and provider. If you need a reasonable accommodation or free language access services\, contact Kali Gilbert at 2055716669 or krg0046@auburn.edu by 7/31/2025. \nThis event has multiple sessions: \n\nSession 1 – August 21\, 2025 at 6:00 PM to 7:00 PM\nSession 2 – August 28\, 2025 at 6:00 PM to 7:00 PM\nSession 3 – September 4\, 2025 at 6:00 PM to 7:00 PM\n\nAddress:Elmore County Family Resource Center \nContact:Kali Gilbertkrg0046@auburn.edu(205) 571-6669 \nRegister Online
URL:https://www.aces.edu/event/right-bite-session-1-3/
LOCATION:Online\, Online\, AL\, US
ORGANIZER;CN="Kali Gilbert":MAILTO:krg0046@auburn.edu
END:VEVENT
BEGIN:VEVENT
DTSTART;TZID=America/Chicago:20250821T180000
DTEND;TZID=America/Chicago:20250821T200000
DTSTAMP:20260422T231428
CREATED:20250709T164521Z
LAST-MODIFIED:20250821T093536Z
UID:10003524-1755799200-1755806400@www.aces.edu
SUMMARY:Cool-Season Grazing Management Workshop
DESCRIPTION:Learn about grazing your livestock during fall and winter\, and managing the available forages. Light supper provided. Part of the Military Veteran & Beginning Farmer series. \n The Alabama Cooperative Extension System (Alabama A&M University and Auburn University) is an equal opportunity educator\, employer\, and provider. If you need a reasonable accommodation or free language access services\, contact Kira Sims at (256) 737-9386 or kira.sims@auburn.edu by 7/31/2025. \nAddress:Cullman County Extension Office402 Arnold Street NECullman\, AL 35055 \nContact:Kira Simskira.sims@auburn.edu(256) 737-9386 \nRegister Online
URL:https://www.aces.edu/event/cool-season-grazing-management-workshop/
LOCATION:Cullman County Extension Office\, 402 Arnold Street NE\, Cullman\, AL\, 35055\, US
ORGANIZER;CN="Kira Sims":MAILTO:kira.sims@auburn.edu
END:VEVENT
END:VCALENDAR