BEGIN:VCALENDAR
VERSION:2.0
PRODID:-//Alabama Cooperative Extension System - ECPv6.2.5//NONSGML v1.0//EN
CALSCALE:GREGORIAN
METHOD:PUBLISH
X-WR-CALNAME:Alabama Cooperative Extension System
X-ORIGINAL-URL:https://www.aces.edu
X-WR-CALDESC:Events for Alabama Cooperative Extension System
REFRESH-INTERVAL;VALUE=DURATION:PT1H
X-Robots-Tag:noindex
X-PUBLISHED-TTL:PT1H
BEGIN:VTIMEZONE
TZID:America/Chicago
BEGIN:DAYLIGHT
TZOFFSETFROM:-0600
TZOFFSETTO:-0500
TZNAME:CDT
DTSTART:20250309T080000
END:DAYLIGHT
BEGIN:STANDARD
TZOFFSETFROM:-0500
TZOFFSETTO:-0600
TZNAME:CST
DTSTART:20251102T070000
END:STANDARD
END:VTIMEZONE
BEGIN:VEVENT
DTSTART;TZID=America/Chicago:20250812T130000
DTEND;TZID=America/Chicago:20250826T140000
DTSTAMP:20260421T003429
CREATED:20251007T173524Z
LAST-MODIFIED:20251105T233630Z
UID:10004049-1755003600-1756216800@www.aces.edu
SUMMARY:Health Extension for Diabetes
DESCRIPTION:Participants will participate in various interactive sessions covering nutrition\, exercise\, monitoring blood sugar\, and lifestyle modifications.  \n The Alabama Cooperative Extension System (Alabama A&M University and Auburn University) is an equal opportunity educator\, employer\, and provider. If you need a reasonable accommodation or free language access services\, contact Elaine Softley at 256-324-2851 or kes0021@aces.edu by 7/22/2025. \nThis event has multiple sessions: \n\nSession 0 – August 12\, 2025 at 1:00 PM to 2:00 PM\nSession 1-Life with Diabetes – August 12\, 2025 at 1:00 PM to 2:00 PM\nSession 2- Healthy Eating With Diabetes – September 9\, 2025 at 1:00 PM to 2:00 PM\nSession 3- Being Active With Diabetes – September 23\, 2025 at 1:00 PM to 2:00 PM\nSession 4- Medications and Monitoring – October 7\, 2025 at 1:00 PM to 2:00 PM\nSession 5- Problem Solving and Resource Navigation – October 21\, 2025 at 1:00 PM to 2:00 PM\nSession 6-Healthy Coping with Diabetes – November 4\, 2025 at 1:00 PM to 2:00 PM\nSession 7- Reducing Risk with Diabetes – November 18\, 2025 at 1:00 PM to 2:00 PM\nSession 8- Graduation – December 2\, 2025 at 1:00 PM to 2:00 PM\n\nContact:Elaine Softleykes0021@aces.edu(256) 324-2851 \nRegister Online
URL:https://www.aces.edu/event/health-extension-for-diabetes-19/
LOCATION:Online\, Online\, AL\, US
ORGANIZER;CN="Elaine Softley":MAILTO:kes0021@aces.edu
END:VEVENT
BEGIN:VEVENT
DTSTART;TZID=America/Chicago:20250814T100000
DTEND;TZID=America/Chicago:20250814T110000
DTSTAMP:20260421T003429
CREATED:20250811T184517Z
LAST-MODIFIED:20250820T205509Z
UID:10003671-1755165600-1755169200@www.aces.edu
SUMMARY:Right Bite Healthy Eating  with Diabetes
DESCRIPTION:A multi-session program to help participants learn meal planning and food preparation methods to reduce calories\, control carbohydrates\, modify fats and increase fiber so those affected by diabetes can manage their blood glucose and blood pressure. \n The Alabama Cooperative Extension System (Alabama A&M University and Auburn University) is an equal opportunity educator\, employer\, and provider. If you need a reasonable accommodation or free language access services\, contact Elaine Softley at 256-324-2851 or kes0021@aces.edu by 7/17/2025. \nThis event has multiple sessions: \n\nSession 1 – August 7\, 2025 at 10:00 AM to 11:00 AM\nSession 2 – August 14\, 2025 at 10:00 AM to 11:00 AM\nSession 3 – August 21\, 2025 at 10:00 AM to 11:00 AM\nSession 4 – August 28\, 2025 at 10:00 AM to 11:00 AM\n\nAddress:Lamar County Extension Office281 Columbus Avenue NorthwestVernon\, AL 35592 \nContact:Elaine Softleykes0021@aces.edu(256) 324-2851 \nRegister Online
URL:https://www.aces.edu/event/right-bite-healthy-eating-with-diabetes-3/
LOCATION:United States
END:VEVENT
BEGIN:VEVENT
DTSTART;TZID=America/Chicago:20250814T120000
DTEND;TZID=America/Chicago:20250814T143000
DTSTAMP:20260421T003429
CREATED:20250728T184513Z
LAST-MODIFIED:20250813T204536Z
UID:10003598-1755172800-1755181800@www.aces.edu
SUMMARY:Alabama Cottage Food Safety Training Madison County (Huntsville)
DESCRIPTION:This course meets the food safety training requirement of the ADPH for people who want to sell non-hazardous foods from their home as a Cottage Food Business.  The certification is good for 3 years. You must register before class.  \n The Alabama Cooperative Extension System (Alabama A&M University and Auburn University) is an equal opportunity educator\, employer\, and provider. If you need a reasonable accommodation or free language access services\, contact Christy Nissen Mendoza at 2052176495 or cnm0012@auburn.edu by 7/24/2025. \nAddress:Madison County Extension OfficeMadison County Extension Office819 Cook Ave\, AL 35801 \nContact:Christy Nissen Mendozacnm0012@auburn.edu(205) 217-6495 \nRegister Online
URL:https://www.aces.edu/event/alabama-cottage-food-safety-training-madison-county-huntsville/
LOCATION:Madison County Extension Office\, Madison County Extension Office\, 819 Cook Ave\, AL\, 35801\, US
ORGANIZER;CN="Christy Nissen Mendoza":MAILTO:cnm0012@auburn.edu
END:VEVENT
END:VCALENDAR