BEGIN:VCALENDAR
VERSION:2.0
PRODID:-//Alabama Cooperative Extension System - ECPv6.2.5//NONSGML v1.0//EN
CALSCALE:GREGORIAN
METHOD:PUBLISH
X-WR-CALNAME:Alabama Cooperative Extension System
X-ORIGINAL-URL:https://www.aces.edu
X-WR-CALDESC:Events for Alabama Cooperative Extension System
REFRESH-INTERVAL;VALUE=DURATION:PT1H
X-Robots-Tag:noindex
X-PUBLISHED-TTL:PT1H
BEGIN:VTIMEZONE
TZID:America/Chicago
BEGIN:DAYLIGHT
TZOFFSETFROM:-0600
TZOFFSETTO:-0500
TZNAME:CDT
DTSTART:20250309T080000
END:DAYLIGHT
BEGIN:STANDARD
TZOFFSETFROM:-0500
TZOFFSETTO:-0600
TZNAME:CST
DTSTART:20251102T070000
END:STANDARD
END:VTIMEZONE
BEGIN:VEVENT
DTSTART;TZID=America/Chicago:20250812T100000
DTEND;TZID=America/Chicago:20250812T150000
DTSTAMP:20260420T205434
CREATED:20250723T174513Z
LAST-MODIFIED:20250811T024522Z
UID:10003574-1754992800-1755010800@www.aces.edu
SUMMARY:Integrated Pest and Parasite Management in small ruminants and fruits vegetable
DESCRIPTION:Integrated Pest and Parasite Management: Smart Strategies for Controlling Worms in Small Ruminants and Pests in Fruits and Vegetables- (Colbert County) \n The Alabama Cooperative Extension System (Alabama A&M University and Auburn University) is an equal opportunity educator\, employer\, and provider. If you need a reasonable accommodation or free language access services\, contact Felix Samuel at 2569240984 or sfu0001@auburn.edu by 7/22/2025. \nAddress:North Alabama State Fairgrounds 65 Sportsplex Drive\, Muscle Shoals\, AL   35661  (Colbert CountyNorth Alabama State Fairgrounds 65 Sportsplex DriveMuscle Shoals\, AL 35661 \nContact:Felix Samuelsfu0001@auburn.edu(256) 924-0984 \nRegister Online
URL:https://www.aces.edu/event/integrated-pest-and-parasite-management-in-small-ruminants-and-fruits-vegetable/
LOCATION:North Alabama State Fairgrounds 65 Sportsplex Drive\, Muscle Shoals\, AL   35661  (Colbert County\, North Alabama State Fairgrounds 65 Sportsplex Drive\, Muscle Shoals\, AL\, 35661\, US
ORGANIZER;CN="Felix Samuel":MAILTO:sfu0001@auburn.edu
END:VEVENT
BEGIN:VEVENT
DTSTART;TZID=America/Chicago:20250812T100000
DTEND;TZID=America/Chicago:20250812T163000
DTSTAMP:20260420T205434
CREATED:20250806T184515Z
LAST-MODIFIED:20250808T224608Z
UID:10003634-1754992800-1755016200@www.aces.edu
SUMMARY:ServSafe Blount County (Cleveland)
DESCRIPTION:Food Safety Certified Food Protection Course using the ServSafe Mgr book. This course meets the requirement of the Alabama Department of Public Health for Retail Food Permit Holders. It’s a two-day class. Must register two weeks before class date.  \n The Alabama Cooperative Extension System (Alabama A&M University and Auburn University) is an equal opportunity educator\, employer\, and provider. If you need a reasonable accommodation or free language access services\, contact Christy Mendoza at 2052176495 or cnm0012@auburn.edu by 7/21/2025. \nThis event has multiple sessions: \n\nDay 1 – August 11\, 2025 at 10:00 AM to 4:30 PM\nDay 2 – August 12\, 2025 at 10:00 AM to 4:30 PM\n\nAddress:Blount County Extension Office6700 County Rd 1Cleveland\, AL 35046 \nContact:Christy Mendozacnm0012@auburn.edu(205) 217-6495 \nRegister Online
URL:https://www.aces.edu/event/servsafe-blount-county-cleveland-day-2/
LOCATION:Blount County Extension Office\, 6700 County Rd 1\, Cleveland\, AL\, 35046\, US
ORGANIZER;CN="Christy Mendoza":MAILTO:cnm0012@auburn.edu
END:VEVENT
BEGIN:VEVENT
DTSTART;TZID=America/Chicago:20250812T103000
DTEND;TZID=America/Chicago:20250812T113000
DTSTAMP:20260420T205434
CREATED:20250806T224541Z
LAST-MODIFIED:20250809T024534Z
UID:10003636-1754994600-1754998200@www.aces.edu
SUMMARY:Earnie the Eagle Money As You Grow Book Club
DESCRIPTION:Join us for story time when we explore youth financial lessons on spending\, saving\, and more! The Book Club books are appropriate for ages 3-12. Nutrition tips and a light snack provided!  \n The Alabama Cooperative Extension System (Alabama A&M University and Auburn University) is an equal opportunity educator\, employer\, and provider. If you need a reasonable accommodation or free language access services\, contact Renee Vines at 2059281410 or phv0002@auburn.edu by 7/22/2025. \nAddress:Hale County Library1103 Main StreetGreensboro\, AL 36744 \nContact:Renee Vinesphv0002@auburn.edu(205) 928-1410 \nRegister Online
URL:https://www.aces.edu/event/earnie-the-eagle-money-as-you-grow-book-club/
LOCATION:Hale County Library\, 1103 Main Street\, Greensboro\, AL\, 36744\, US
ORGANIZER;CN="Renee Vines":MAILTO:phv0002@auburn.edu
END:VEVENT
BEGIN:VEVENT
DTSTART;TZID=America/Chicago:20250812T120000
DTEND;TZID=America/Chicago:20250812T130000
DTSTAMP:20260420T205434
CREATED:20250529T214512Z
LAST-MODIFIED:20250807T011045Z
UID:10003314-1755000000-1755003600@www.aces.edu
SUMMARY:Elmore County Lunch and Learn- Cover Crops to Improve Your Soil
DESCRIPTION:Carole Boroski\, Alabama Master Gardener will teach on the importance of planting cover crops and which types will grow best in what environment for the greatest benefit. \n The Alabama Cooperative Extension System (Alabama A&M University and Auburn University) is an equal opportunity educator\, employer\, and provider. If you need a reasonable accommodation or free language access services\, contact Elmore County Extension Office at 3345676301 or jones57@aces.edu by 7/22/2025. \nAddress:First Presbyterian Church100 West Bridge StreetWetumpka\, AL 36092 \nContact:Elmore County Extension Officejones57@aces.edu(334) 567-6301 \nRegister Online
URL:https://www.aces.edu/event/elmore-county-lunch-and-learn-cover-crops-to-improve-your-soil/
LOCATION:First Presbyterian Church\, 100 West Bridge Street\, Wetumpka\, AL\, 36092\, US
ORGANIZER;CN="Elmore County Extension Office":MAILTO:jones57@aces.edu
END:VEVENT
BEGIN:VEVENT
DTSTART;TZID=America/Chicago:20250812T130000
DTEND;TZID=America/Chicago:20250812T140000
DTSTAMP:20260420T205434
CREATED:20251007T173524Z
LAST-MODIFIED:20251105T233630Z
UID:10004048-1755003600-1755007200@www.aces.edu
SUMMARY:Health Extension for Diabetes
DESCRIPTION:Participants will participate in various interactive sessions covering nutrition\, exercise\, monitoring blood sugar\, and lifestyle modifications.  \n The Alabama Cooperative Extension System (Alabama A&M University and Auburn University) is an equal opportunity educator\, employer\, and provider. If you need a reasonable accommodation or free language access services\, contact Elaine Softley at 256-324-2851 or kes0021@aces.edu by 7/22/2025. \nThis event has multiple sessions: \n\nSession 0 – August 12\, 2025 at 1:00 PM to 2:00 PM\nSession 1-Life with Diabetes – August 12\, 2025 at 1:00 PM to 2:00 PM\nSession 2- Healthy Eating With Diabetes – September 9\, 2025 at 1:00 PM to 2:00 PM\nSession 3- Being Active With Diabetes – September 23\, 2025 at 1:00 PM to 2:00 PM\nSession 4- Medications and Monitoring – October 7\, 2025 at 1:00 PM to 2:00 PM\nSession 5- Problem Solving and Resource Navigation – October 21\, 2025 at 1:00 PM to 2:00 PM\nSession 6-Healthy Coping with Diabetes – November 4\, 2025 at 1:00 PM to 2:00 PM\nSession 7- Reducing Risk with Diabetes – November 18\, 2025 at 1:00 PM to 2:00 PM\nSession 8- Graduation – December 2\, 2025 at 1:00 PM to 2:00 PM\n\nContact:Elaine Softleykes0021@aces.edu(256) 324-2851 \nRegister Online
URL:https://www.aces.edu/event/health-extension-for-diabetes-18/
LOCATION:Online\, Online\, AL\, US
ORGANIZER;CN="Elaine Softley":MAILTO:kes0021@aces.edu
END:VEVENT
BEGIN:VEVENT
DTSTART;TZID=America/Chicago:20250812T130000
DTEND;TZID=America/Chicago:20250826T140000
DTSTAMP:20260420T205434
CREATED:20251007T173524Z
LAST-MODIFIED:20251105T233630Z
UID:10004049-1755003600-1756216800@www.aces.edu
SUMMARY:Health Extension for Diabetes
DESCRIPTION:Participants will participate in various interactive sessions covering nutrition\, exercise\, monitoring blood sugar\, and lifestyle modifications.  \n The Alabama Cooperative Extension System (Alabama A&M University and Auburn University) is an equal opportunity educator\, employer\, and provider. If you need a reasonable accommodation or free language access services\, contact Elaine Softley at 256-324-2851 or kes0021@aces.edu by 7/22/2025. \nThis event has multiple sessions: \n\nSession 0 – August 12\, 2025 at 1:00 PM to 2:00 PM\nSession 1-Life with Diabetes – August 12\, 2025 at 1:00 PM to 2:00 PM\nSession 2- Healthy Eating With Diabetes – September 9\, 2025 at 1:00 PM to 2:00 PM\nSession 3- Being Active With Diabetes – September 23\, 2025 at 1:00 PM to 2:00 PM\nSession 4- Medications and Monitoring – October 7\, 2025 at 1:00 PM to 2:00 PM\nSession 5- Problem Solving and Resource Navigation – October 21\, 2025 at 1:00 PM to 2:00 PM\nSession 6-Healthy Coping with Diabetes – November 4\, 2025 at 1:00 PM to 2:00 PM\nSession 7- Reducing Risk with Diabetes – November 18\, 2025 at 1:00 PM to 2:00 PM\nSession 8- Graduation – December 2\, 2025 at 1:00 PM to 2:00 PM\n\nContact:Elaine Softleykes0021@aces.edu(256) 324-2851 \nRegister Online
URL:https://www.aces.edu/event/health-extension-for-diabetes-19/
LOCATION:Online\, Online\, AL\, US
ORGANIZER;CN="Elaine Softley":MAILTO:kes0021@aces.edu
END:VEVENT
BEGIN:VEVENT
DTSTART;TZID=America/Chicago:20250812T160000
DTEND;TZID=America/Chicago:20250812T180000
DTSTAMP:20260420T205434
CREATED:20250723T154510Z
LAST-MODIFIED:20250812T054528Z
UID:10003570-1755014400-1755021600@www.aces.edu
SUMMARY:Alabama Cottage Food Law Certification
DESCRIPTION:This course fulfills the ADPH food safety requirement for Cottage Food Businesses. Learn about Alabama’s Cottage Food law\, approved foods\, sales locations\, labeling\, and safety practices. Certification lasts 3 years. Register in advance—limited seating! \n The Alabama Cooperative Extension System (Alabama A&M University and Auburn University) is an equal opportunity educator\, employer\, and provider. If you need a reasonable accommodation or free language access services\, contact Susan Hill at 205-269-1748 or hillaps@auburn.edu by 7/22/2025. \nAddress:Athens State Launch Box121 S. Marion St.Athens\, AL 35611 \nContact:Susan Hillhillaps@auburn.edu(205) 269-1748 \nRegister Online
URL:https://www.aces.edu/event/alabama-cottage-food-law-certification-2/
LOCATION:Athens State Launch Box\, 121 S. Marion St.\, Athens\, AL\, 35611\, US
ORGANIZER;CN="Susan Hill":MAILTO:hillaps@auburn.edu
END:VEVENT
BEGIN:VEVENT
DTSTART;TZID=America/Chicago:20250812T170000
DTEND;TZID=America/Chicago:20250812T180000
DTSTAMP:20260420T205434
CREATED:20250721T204511Z
LAST-MODIFIED:20250820T205510Z
UID:10003559-1755018000-1755021600@www.aces.edu
SUMMARY:Design Your Own Landscape
DESCRIPTION:Ready to reimagine your yard but don’t know where to start? Join us in a 3-part\, in-person series created specifically for homeowners who want to take the guesswork out of landscape design. No design experience needed – just bring your creativity!\nThe Alabama Cooperative Extension System (Alabama A&M University and Auburn University) is an equal opportunity educator\, employer\, and provider. If you need a reasonable accommodation or free language access services\, contact Makahla Holloway at 251-423-9415 or mgh0120@auburn.edu by 7/22/2025.This event has multiple sessions: \n\nSession 1 – August 12\, 2025 at 5:00 PM to 6:00 PM\nSession 2 – August 19\, 2025 at 5:00 PM to 6:00 PM\nSession 3 – August 26\, 2025 at 5:00 PM to 6:00 PM\n\nAddress:Fayette County Extension Office640 McConnell LoopFayette\, AL 35555 \nContact:Makahla Hollowaymgh0120@auburn.edu(251) 423-9415 \nRegister Online
URL:https://www.aces.edu/event/design-your-own-landscape-session-1/
LOCATION:Fayette County Extension Office\, 640 McConnell Loop\, Fayette\, AL\, 35555\, US
ORGANIZER;CN="Makahla Holloway":MAILTO:mgh0120@auburn.edu
END:VEVENT
BEGIN:VEVENT
DTSTART;TZID=America/Chicago:20250812T173000
DTEND;TZID=America/Chicago:20250812T183000
DTSTAMP:20260420T205434
CREATED:20250122T185639Z
LAST-MODIFIED:20250122T193858Z
UID:10002933-1755019800-1755023400@www.aces.edu
SUMMARY:Small Ruminant Webinar Series
DESCRIPTION:Best Approaches to Managing Parasites and Other Health Concerns in Goats and Sheep \nLocation:\nOnline \nContact:\nFelix Uchenna Samuel\nsfu0001@auburn.edu\n(256) 924 0984 \nRegister Online
URL:https://www.aces.edu/event/small-ruminant-webinar-series/2025-08-12/
LOCATION:Online\, Online\, AL
ORGANIZER;CN="Felix Uchenna Samuel":MAILTO:sfu0001@auburn.edu
END:VEVENT
BEGIN:VEVENT
DTSTART;TZID=America/Chicago:20250812T173000
DTEND;TZID=America/Chicago:20250812T203000
DTSTAMP:20260420T205434
CREATED:20250514T165441Z
LAST-MODIFIED:20250514T165441Z
UID:10003277-1755019800-1755030600@www.aces.edu
SUMMARY:2025 Essentials of Farm Taxes and Estate Planning Seminar - Prattville 8/12
DESCRIPTION:Farm tax preparation and estate planning are daunting tasks that most farmers dread taking on. Be better prepared to face these tasks through the Essentials of Farm Taxes and Estate Planning Seminar. Brought to you by the Alabama Cooperative Extension System\, this seminar will help you optimize your operation’s tax strategy and better plan for your farm’s future. \nLocation:\nPrattville Chamber of Commerce\n131 North Court Street\nPrattville\, AL 36067 \nContact:\nDennis Brothers\ndlb0018@auburn.edu\n(205) 274-2129 \nRegistration closed.
URL:https://www.aces.edu/event/2025-essentials-of-farm-taxes-and-estate-planning-seminar-prattville-8-12/
LOCATION:Prattville Chamber of Commerce\, 131 North Court Street\, Prattville\, 36067\, United States
ORGANIZER;CN="Dennis Brothers":MAILTO:dlb0018@auburn.edu
END:VEVENT
BEGIN:VEVENT
DTSTART;TZID=America/Chicago:20250812T173000
DTEND;TZID=America/Chicago:20250812T203000
DTSTAMP:20260420T205434
CREATED:20250613T192554Z
LAST-MODIFIED:20250807T011033Z
UID:10003431-1755019800-1755030600@www.aces.edu
SUMMARY:2025 Essentials of Farm Taxes and Estate Planning Seminar
DESCRIPTION:Educational seminar covering farm tax strategies and basic estate planning \n The Alabama Cooperative Extension System (Alabama A&M University and Auburn University) is an equal opportunity educator\, employer\, and provider. If you need a reasonable accommodation or free language access services\, contact Dennis Brothers at 205-456-0414 or brothers@auburn.edu by 7/22/2025. \nAddress:Prattville Chamber of Commerce131 N Court StPrattville\, AL 36067 \nContact:Dennis Brothersbrothers@auburn.edu(205) 456-0414 \nRegister Online
URL:https://www.aces.edu/event/2025-essentials-of-farm-taxes-and-estate-planning-seminar-2/
LOCATION:Prattville Chamber of Commerce\, 131 N Court St\, Prattville\, AL\, 36067\, US
ORGANIZER;CN="Dennis Brothers":MAILTO:brothers@auburn.edu
END:VEVENT
END:VCALENDAR