BEGIN:VCALENDAR
VERSION:2.0
PRODID:-//Alabama Cooperative Extension System - ECPv6.2.5//NONSGML v1.0//EN
CALSCALE:GREGORIAN
METHOD:PUBLISH
X-WR-CALNAME:Alabama Cooperative Extension System
X-ORIGINAL-URL:https://www.aces.edu
X-WR-CALDESC:Events for Alabama Cooperative Extension System
REFRESH-INTERVAL;VALUE=DURATION:PT1H
X-Robots-Tag:noindex
X-PUBLISHED-TTL:PT1H
BEGIN:VTIMEZONE
TZID:America/Chicago
BEGIN:DAYLIGHT
TZOFFSETFROM:-0600
TZOFFSETTO:-0500
TZNAME:CDT
DTSTART:20260308T080000
END:DAYLIGHT
BEGIN:STANDARD
TZOFFSETFROM:-0500
TZOFFSETTO:-0600
TZNAME:CST
DTSTART:20261101T070000
END:STANDARD
END:VTIMEZONE
BEGIN:VEVENT
DTSTART;TZID=America/Chicago:20260217T100000
DTEND;TZID=America/Chicago:20260217T110000
DTSTAMP:20260424T121901
CREATED:20260206T165128Z
LAST-MODIFIED:20260211T005334Z
UID:172177-1771322400-1771326000@www.aces.edu
SUMMARY:VCLLI Spr'26: Social Security Administration Benefits Updates
DESCRIPTION:An informative session with the latest updates from the Social Security Administration\, including important changes to benefits\, eligibility\, and services that help individuals plan and manage their financial well‑being. \n The Alabama Cooperative Extension System (Alabama A&M University and Auburn University) is an equal opportunity educator\, employer\, and provider. If you need a reasonable accommodation or free language access services\, contact Candra DeBose at 12568362962 or ckj0015@auburn.edu by 1/27/2026. \nContact:Candra DeBoseckj0015@auburn.edu12568362962 \nRegister Online
URL:https://www.aces.edu/event/vclli-spr26-social-security-administration-benefits-updates/
LOCATION:Online\, Online\, AL\, US
ORGANIZER;CN="Candra DeBose":MAILTO:ckj0015@auburn.edu
END:VEVENT
END:VCALENDAR