BEGIN:VCALENDAR
VERSION:2.0
PRODID:-//Alabama Cooperative Extension System - ECPv6.2.5//NONSGML v1.0//EN
CALSCALE:GREGORIAN
METHOD:PUBLISH
X-WR-CALNAME:Alabama Cooperative Extension System
X-ORIGINAL-URL:https://www.aces.edu
X-WR-CALDESC:Events for Alabama Cooperative Extension System
REFRESH-INTERVAL;VALUE=DURATION:PT1H
X-Robots-Tag:noindex
X-PUBLISHED-TTL:PT1H
BEGIN:VTIMEZONE
TZID:America/Chicago
BEGIN:DAYLIGHT
TZOFFSETFROM:-0600
TZOFFSETTO:-0500
TZNAME:CDT
DTSTART:20260308T080000
END:DAYLIGHT
BEGIN:STANDARD
TZOFFSETFROM:-0500
TZOFFSETTO:-0600
TZNAME:CST
DTSTART:20261101T070000
END:STANDARD
END:VTIMEZONE
BEGIN:VEVENT
DTSTART;TZID=America/Chicago:20260220T080000
DTEND;TZID=America/Chicago:20260220T153000
DTSTAMP:20260425T104505
CREATED:20251218T203513Z
LAST-MODIFIED:20260213T165331Z
UID:168213-1771574400-1771601400@www.aces.edu
SUMMARY:Tree Care Course - Conecuh County
DESCRIPTION:A course on tree care for master gardeners\, arborists\, and tree care enthusiasts.  \n The Alabama Cooperative Extension System (Alabama A&M University and Auburn University) is an equal opportunity educator\, employer\, and provider. If you need a reasonable accommodation or free language access services\, contact Jessica Baldwin at 3347521194 or jmb0276@auburn.edu by 1/30/2026. \nAddress:Railroad Depot100 Depot SquareEvergreen\, AL 36401 \nContact:Jessica Baldwinjmb0276@auburn.edu(334) 752-1194 \nRegister Online
URL:https://www.aces.edu/event/tree-care-course-conecuh-county/
LOCATION:Railroad Depot\, 100 Depot Square\, Evergreen\, AL\, 36401\, US
ORGANIZER;CN="Jessica Baldwin":MAILTO:jmb0276@auburn.edu
END:VEVENT
END:VCALENDAR