BEGIN:VCALENDAR
VERSION:2.0
PRODID:-//Alabama Cooperative Extension System - ECPv6.2.5//NONSGML v1.0//EN
CALSCALE:GREGORIAN
METHOD:PUBLISH
X-WR-CALNAME:Alabama Cooperative Extension System
X-ORIGINAL-URL:https://www.aces.edu
X-WR-CALDESC:Events for Alabama Cooperative Extension System
REFRESH-INTERVAL;VALUE=DURATION:PT1H
X-Robots-Tag:noindex
X-PUBLISHED-TTL:PT1H
BEGIN:VTIMEZONE
TZID:America/Chicago
BEGIN:DAYLIGHT
TZOFFSETFROM:-0600
TZOFFSETTO:-0500
TZNAME:CDT
DTSTART:20260308T080000
END:DAYLIGHT
BEGIN:STANDARD
TZOFFSETFROM:-0500
TZOFFSETTO:-0600
TZNAME:CST
DTSTART:20261101T070000
END:STANDARD
END:VTIMEZONE
BEGIN:VEVENT
DTSTART;TZID=America/Chicago:20260206T080000
DTEND;TZID=America/Chicago:20260206T153000
DTSTAMP:20260424T225707
CREATED:20251119T203534Z
LAST-MODIFIED:20260202T055132Z
UID:165604-1770364800-1770391800@www.aces.edu
SUMMARY:Tree Care and Maintance Workshop - Green Up Alabama
DESCRIPTION:Tree Care and Maintenance course offers practical guidance for anyone responsible for managing and preserving trees in landscapes and communities.  \n The Alabama Cooperative Extension System (Alabama A&M University and Auburn University) is an equal opportunity educator\, employer\, and provider. If you need a reasonable accommodation or free language access services\, contact Jessica Baldwin at 3347521194 or jmb0276@auburn.edu by 1/16/2026. \nAddress:Blount County Auburn University Extension Office6700 County Highway 1Cleveland\, AL 35049 \nContact:Jessica Baldwinjmb0276@auburn.edu(334) 752-1194 \nRegister Online
URL:https://www.aces.edu/event/tree-care-and-maintance-workshop-green-up-alabama/
LOCATION:Blount County Auburn University Extension Office\, 6700 County Highway 1\, Cleveland\, AL\, 35049\, US
ORGANIZER;CN="Jessica Baldwin":MAILTO:jmb0276@auburn.edu
END:VEVENT
END:VCALENDAR