BEGIN:VCALENDAR
VERSION:2.0
PRODID:-//Alabama Cooperative Extension System - ECPv6.2.5//NONSGML v1.0//EN
CALSCALE:GREGORIAN
METHOD:PUBLISH
X-WR-CALNAME:Alabama Cooperative Extension System
X-ORIGINAL-URL:https://www.aces.edu
X-WR-CALDESC:Events for Alabama Cooperative Extension System
REFRESH-INTERVAL;VALUE=DURATION:PT1H
X-Robots-Tag:noindex
X-PUBLISHED-TTL:PT1H
BEGIN:VTIMEZONE
TZID:America/Chicago
BEGIN:DAYLIGHT
TZOFFSETFROM:-0600
TZOFFSETTO:-0500
TZNAME:CDT
DTSTART:20260308T080000
END:DAYLIGHT
BEGIN:STANDARD
TZOFFSETFROM:-0500
TZOFFSETTO:-0600
TZNAME:CST
DTSTART:20261101T070000
END:STANDARD
END:VTIMEZONE
BEGIN:VEVENT
DTSTART;TZID=America/Chicago:20260216T190000
DTEND;TZID=America/Chicago:20260216T220000
DTSTAMP:20260424T102454
CREATED:20260108T173510Z
LAST-MODIFIED:20260210T225327Z
UID:169399-1771268400-1771279200@www.aces.edu
SUMMARY:Tick Talk Webinar
DESCRIPTION:Tick populations are on the rise\, with increased negative impact to humans\, companion animals and livestock.  Come learn the state of ticks in the southeast and how you can be more “tick safe” . \n The Alabama Cooperative Extension System (Alabama A&M University and Auburn University) is an equal opportunity educator\, employer\, and provider. If you need a reasonable accommodation or free language access services\, contact Jennifer Davidson at (334)298-6845 or jenniferd@auburn.edu by 1/26/2026. \nContact:Jennifer Davidsonjenniferd@auburn.edu(334) 298-6845 \nRegister Online
URL:https://www.aces.edu/event/tick-talk-webinar/
LOCATION:Online\, Online\, AL\, US
ORGANIZER;CN="Jennifer Davidson":MAILTO:jenniferd@auburn.edu
END:VEVENT
END:VCALENDAR