BEGIN:VCALENDAR
VERSION:2.0
PRODID:-//Alabama Cooperative Extension System - ECPv6.2.5//NONSGML v1.0//EN
CALSCALE:GREGORIAN
METHOD:PUBLISH
X-WR-CALNAME:Alabama Cooperative Extension System
X-ORIGINAL-URL:https://www.aces.edu
X-WR-CALDESC:Events for Alabama Cooperative Extension System
REFRESH-INTERVAL;VALUE=DURATION:PT1H
X-Robots-Tag:noindex
X-PUBLISHED-TTL:PT1H
BEGIN:VTIMEZONE
TZID:America/Chicago
BEGIN:DAYLIGHT
TZOFFSETFROM:-0600
TZOFFSETTO:-0500
TZNAME:CDT
DTSTART:20260308T080000
END:DAYLIGHT
BEGIN:STANDARD
TZOFFSETFROM:-0500
TZOFFSETTO:-0600
TZNAME:CST
DTSTART:20261101T070000
END:STANDARD
END:VTIMEZONE
BEGIN:VEVENT
DTSTART;TZID=America/Chicago:20260615T093000
DTEND;TZID=America/Chicago:20260615T153000
DTSTAMP:20260424T143336
CREATED:20260210T195045Z
LAST-MODIFIED:20260424T184054Z
UID:172488-1781515800-1781537400@www.aces.edu
SUMMARY:ServSafe Training- Selma
DESCRIPTION:Two-day food safety training for the food service industry \n The Alabama Cooperative Extension System (Alabama A&M University and Auburn University) is an equal opportunity educator\, employer\, and provider. If you need a reasonable accommodation or free language access services\, contact Alice Moore at 13342160738 or amm0167@aces.edu by 5/25/2026. \nThis event has multiple sessions: \n\nSession 1 – June 15\, 2026 at 9:30 AM to 3:30 PM\nSession 2 – June 16\, 2026 at 9:30 AM to 3:30 PM\n\nAddress:Trustmark Bank310 Broad StreetSelma\, AL 36702 \nContact:Alice Mooreamm0167@aces.edu13342160738 \nRegister Online
URL:https://www.aces.edu/event/servsafe-training-selma/
LOCATION:Trustmark Bank\, 310 Broad Street\, Selma\, AL\, 36702\, US
ORGANIZER;CN="Alice Moore":MAILTO:amm0167@aces.edu
END:VEVENT
END:VCALENDAR