BEGIN:VCALENDAR
VERSION:2.0
PRODID:-//Alabama Cooperative Extension System - ECPv6.2.5//NONSGML v1.0//EN
CALSCALE:GREGORIAN
METHOD:PUBLISH
X-WR-CALNAME:Alabama Cooperative Extension System
X-ORIGINAL-URL:https://www.aces.edu
X-WR-CALDESC:Events for Alabama Cooperative Extension System
REFRESH-INTERVAL;VALUE=DURATION:PT1H
X-Robots-Tag:noindex
X-PUBLISHED-TTL:PT1H
BEGIN:VTIMEZONE
TZID:America/Chicago
BEGIN:DAYLIGHT
TZOFFSETFROM:-0600
TZOFFSETTO:-0500
TZNAME:CDT
DTSTART:20260308T080000
END:DAYLIGHT
BEGIN:STANDARD
TZOFFSETFROM:-0500
TZOFFSETTO:-0600
TZNAME:CST
DTSTART:20261101T070000
END:STANDARD
END:VTIMEZONE
BEGIN:VEVENT
DTSTART;TZID=America/Chicago:20260204T083000
DTEND;TZID=America/Chicago:20260204T150000
DTSTAMP:20260424T225434
CREATED:20251110T153453Z
LAST-MODIFIED:20260124T223549Z
UID:164861-1770193800-1770217200@www.aces.edu
SUMMARY:SERVSAFE Hartselle\, AL Morgan County
DESCRIPTION:Food Safety Certified Food Protection Manager Course using the 7th Edition ServSafe Manager textbook. This course meets the requirement of the Alabama Department of Public Health for Retail Food Permit Holders. This is a two-day class. \n The Alabama Cooperative Extension System (Alabama A&M University and Auburn University) is an equal opportunity educator\, employer\, and provider. If you need a reasonable accommodation or free language access services\, contact Susan Hill at 12052691748 or hillaps@aces.edu by 1/12/2026. \nThis event has multiple sessions: \n\nDay 1 – February 2\, 2026 at 8:30 AM to 3:00 PM\nDay 2 – February 4\, 2026 at 8:30 AM to 3:00 PM\n\nAddress:Morgan County Extension Office3120 AL-36Hartselle\, AL 35640 \nContact:Susan Hillhillaps@auburn.edu12052691748 \nRegister Online
URL:https://www.aces.edu/event/servsafe-hartselle-al-morgan-county-2/
LOCATION:Morgan County Extension Office\, 3120 AL-36\, Hartselle\, AL\, 35640\, US
ORGANIZER;CN="Susan Hill":MAILTO:hillaps@auburn.edu
END:VEVENT
END:VCALENDAR