BEGIN:VCALENDAR
VERSION:2.0
PRODID:-//Alabama Cooperative Extension System - ECPv6.2.5//NONSGML v1.0//EN
CALSCALE:GREGORIAN
METHOD:PUBLISH
X-WR-CALNAME:Alabama Cooperative Extension System
X-ORIGINAL-URL:https://www.aces.edu
X-WR-CALDESC:Events for Alabama Cooperative Extension System
REFRESH-INTERVAL;VALUE=DURATION:PT1H
X-Robots-Tag:noindex
X-PUBLISHED-TTL:PT1H
BEGIN:VTIMEZONE
TZID:America/Chicago
BEGIN:DAYLIGHT
TZOFFSETFROM:-0600
TZOFFSETTO:-0500
TZNAME:CDT
DTSTART:20260308T080000
END:DAYLIGHT
BEGIN:STANDARD
TZOFFSETFROM:-0500
TZOFFSETTO:-0600
TZNAME:CST
DTSTART:20261101T070000
END:STANDARD
END:VTIMEZONE
BEGIN:VEVENT
DTSTART;TZID=America/Chicago:20260508T114500
DTEND;TZID=America/Chicago:20260508T133000
DTSTAMP:20260421T003322
CREATED:20260420T174015Z
LAST-MODIFIED:20260421T044049Z
UID:177970-1778240700-1778247000@www.aces.edu
SUMMARY:Seed Balls - Clay\, Compost\, Seeds - Seeding Native Prairie Grasses
DESCRIPTION:Learn to make seed balls with all local materials. In this hands-on class you will learn practical skills to make your own seed balls to disperse into the landscape.  \n The Alabama Cooperative Extension System (Alabama A&M University and Auburn University) is an equal opportunity educator\, employer\, and provider. If you need a reasonable accommodation or free language access services\, contact Bronson R Lubresky at 12059101374 or brl0015@auburn.edu by 4/17/2026. \nAddress:Birmingham Botanical Gardens2612 Lane Park RoadBirmingham\, AL 35223 \nContact:Bronson R Lubreskybrl0015@auburn.edu12059101374 \nRegister Online
URL:https://www.aces.edu/event/seed-balls-clay-compost-seeds-seeding-native-prairie-grasses/
LOCATION:Birmingham Botanical Gardens\, 2612 Lane Park Road\, Birmingham\, AL\, 35223\, US
ORGANIZER;CN="Bronson R Lubresky":MAILTO:brl0015@auburn.edu
END:VEVENT
END:VCALENDAR