BEGIN:VCALENDAR
VERSION:2.0
PRODID:-//Alabama Cooperative Extension System - ECPv6.2.5//NONSGML v1.0//EN
CALSCALE:GREGORIAN
METHOD:PUBLISH
X-WR-CALNAME:Alabama Cooperative Extension System
X-ORIGINAL-URL:https://www.aces.edu
X-WR-CALDESC:Events for Alabama Cooperative Extension System
REFRESH-INTERVAL;VALUE=DURATION:PT1H
X-Robots-Tag:noindex
X-PUBLISHED-TTL:PT1H
BEGIN:VTIMEZONE
TZID:America/Chicago
BEGIN:DAYLIGHT
TZOFFSETFROM:-0600
TZOFFSETTO:-0500
TZNAME:CDT
DTSTART:20260308T080000
END:DAYLIGHT
BEGIN:STANDARD
TZOFFSETFROM:-0500
TZOFFSETTO:-0600
TZNAME:CST
DTSTART:20261101T070000
END:STANDARD
END:VTIMEZONE
BEGIN:VEVENT
DTSTART;TZID=America/Chicago:20260421T120000
DTEND;TZID=America/Chicago:20260421T140000
DTSTAMP:20260420T210129
CREATED:20260420T184019Z
LAST-MODIFIED:20260421T014043Z
UID:177984-1776772800-1776780000@www.aces.edu
SUMMARY:Pollinator Importance and Creating Pollinator Habitats
DESCRIPTION:Discover what plants are most effective at attracting pollinators\, the importance and types of pollinators\, how to create a bloom calendar and cover creating pollinator habitats and considerations when using pesticides to limit pollinator damage. \n The Alabama Cooperative Extension System (Alabama A&M University and Auburn University) is an equal opportunity educator\, employer\, and provider. If you need a reasonable accommodation or free language access services\, contact Jed Smart at 205-367-8148 or jrs0178@auburn.edu by 3/31/2026. \nAddress:Aliceville Rotary Club \nContact:Jed Smartjrs0178@auburn.edu(205) 367-8148 \nRegister Online
URL:https://www.aces.edu/event/pollinator-importance-and-creating-pollinator-habitats/
LOCATION:Online\, Online\, AL\, US
ORGANIZER;CN="Jed Smart":MAILTO:jrs0178@auburn.edu
END:VEVENT
END:VCALENDAR