BEGIN:VCALENDAR
VERSION:2.0
PRODID:-//Alabama Cooperative Extension System - ECPv6.2.5//NONSGML v1.0//EN
CALSCALE:GREGORIAN
METHOD:PUBLISH
X-WR-CALNAME:Alabama Cooperative Extension System
X-ORIGINAL-URL:https://www.aces.edu
X-WR-CALDESC:Events for Alabama Cooperative Extension System
REFRESH-INTERVAL;VALUE=DURATION:PT1H
X-Robots-Tag:noindex
X-PUBLISHED-TTL:PT1H
BEGIN:VTIMEZONE
TZID:America/Chicago
BEGIN:DAYLIGHT
TZOFFSETFROM:-0600
TZOFFSETTO:-0500
TZNAME:CDT
DTSTART:20260308T080000
END:DAYLIGHT
BEGIN:STANDARD
TZOFFSETFROM:-0500
TZOFFSETTO:-0600
TZNAME:CST
DTSTART:20261101T070000
END:STANDARD
END:VTIMEZONE
BEGIN:VEVENT
DTSTART;TZID=America/Chicago:20260401T120000
DTEND;TZID=America/Chicago:20260401T130000
DTSTAMP:20260423T174217
CREATED:20251212T203457Z
LAST-MODIFIED:20260401T174312Z
UID:167355-1775044800-1775048400@www.aces.edu
SUMMARY:Montgomery County Lunch and Learn- Growing a Greener Grass
DESCRIPTION:Commercial Horticulture Agent\, David Lawrence will discuss turfgrass varieties\, things you look for with diseases and insects and how to care for your turf (Mowing height\, herbicide sprays\, fertilizers\, etc…) \n The Alabama Cooperative Extension System (Alabama A&M University and Auburn University) is an equal opportunity educator\, employer\, and provider. If you need a reasonable accommodation or free language access services\, contact Montgomery County Extension Office at 13342458053 or jones57@aces.edu by 3/11/2026. \nAddress:Montgomery Cultural Arts Center (Armory Learning Arts Building)1018 Madison AvenueMontgomery\, AL 36104 \nContact:Montgomery County Extension Officejones57@aces.edu13342458053 \nRegister Online
URL:https://www.aces.edu/event/montgomery-county-lunch-and-learn-growing-a-greener-grass/
LOCATION:Montgomery Cultural Arts Center (Armory Learning Arts Building)\, 1018 Madison Avenue\, Montgomery\, AL\, 36104\, US
ORGANIZER;CN="Montgomery County Extension Office":MAILTO:jones57@aces.edu
END:VEVENT
END:VCALENDAR