BEGIN:VCALENDAR
VERSION:2.0
PRODID:-//Alabama Cooperative Extension System - ECPv6.2.5//NONSGML v1.0//EN
CALSCALE:GREGORIAN
METHOD:PUBLISH
X-WR-CALNAME:Alabama Cooperative Extension System
X-ORIGINAL-URL:https://www.aces.edu
X-WR-CALDESC:Events for Alabama Cooperative Extension System
REFRESH-INTERVAL;VALUE=DURATION:PT1H
X-Robots-Tag:noindex
X-PUBLISHED-TTL:PT1H
BEGIN:VTIMEZONE
TZID:America/Chicago
BEGIN:DAYLIGHT
TZOFFSETFROM:-0600
TZOFFSETTO:-0500
TZNAME:CDT
DTSTART:20260308T080000
END:DAYLIGHT
BEGIN:STANDARD
TZOFFSETFROM:-0500
TZOFFSETTO:-0600
TZNAME:CST
DTSTART:20261101T070000
END:STANDARD
END:VTIMEZONE
BEGIN:VEVENT
DTSTART;TZID=America/Chicago:20260321T090000
DTEND;TZID=America/Chicago:20260321T120000
DTSTAMP:20260424T125459
CREATED:20260302T145837Z
LAST-MODIFIED:20260302T145837Z
UID:174249-1774083600-1774094400@www.aces.edu
SUMMARY:Lamar County Poultry Party
DESCRIPTION:This event will cover various topics from beginning to end in small backyard flock management for individuals considering raising poultry (chickens).  \n The Alabama Cooperative Extension System (Alabama A&M University and Auburn University) is an equal opportunity educator\, employer\, and provider. If you need a reasonable accommodation or free language access services\, contact Jerry Smith at 12056957139 or jms0172@aces.edu by 2/28/2026. \nAddress:Lamar County Poultry Party281 Columbus Avenue\, NWVernon\, AL 35592 \nContact:Jerry Smithjms0172@aces.edu12056957139 \nRegister Online
URL:https://www.aces.edu/event/lamar-county-poultry-party/
LOCATION:Lamar County Poultry Party\, 281 Columbus Avenue\, NW\, Vernon\, AL\, 35592\, US
ORGANIZER;CN="Jerry Smith":MAILTO:jms0172@aces.edu
END:VEVENT
END:VCALENDAR