BEGIN:VCALENDAR
VERSION:2.0
PRODID:-//Alabama Cooperative Extension System - ECPv6.2.5//NONSGML v1.0//EN
CALSCALE:GREGORIAN
METHOD:PUBLISH
X-WR-CALNAME:Alabama Cooperative Extension System
X-ORIGINAL-URL:https://www.aces.edu
X-WR-CALDESC:Events for Alabama Cooperative Extension System
REFRESH-INTERVAL;VALUE=DURATION:PT1H
X-Robots-Tag:noindex
X-PUBLISHED-TTL:PT1H
BEGIN:VTIMEZONE
TZID:America/Chicago
BEGIN:DAYLIGHT
TZOFFSETFROM:-0600
TZOFFSETTO:-0500
TZNAME:CDT
DTSTART:20260308T080000
END:DAYLIGHT
BEGIN:STANDARD
TZOFFSETFROM:-0500
TZOFFSETTO:-0600
TZNAME:CST
DTSTART:20261101T070000
END:STANDARD
END:VTIMEZONE
BEGIN:VEVENT
DTSTART;TZID=America/Chicago:20260428T100000
DTEND;TZID=America/Chicago:20260428T120000
DTSTAMP:20260425T160403
CREATED:20260323T164014Z
LAST-MODIFIED:20260411T174152Z
UID:175949-1777370400-1777377600@www.aces.edu
SUMMARY:Glass Etching Workshop
DESCRIPTION:Participants will learn the craft of hand etching glass. \n The Alabama Cooperative Extension System (Alabama A&M University and Auburn University) is an equal opportunity educator\, employer\, and provider. If you need a reasonable accommodation or free language access services\, contact Brandy Childress at 2052806268 or bpp0005@auburn.edu by 4/7/2026. \nAddress:Chilton County Extension Office504 1st AvenueClanton\, AL 35045 \nContact:Brandy Childressbpp0005@auburn.edu(205) 280-6268 \nRegister Online
URL:https://www.aces.edu/event/glass-etching-workshop/
LOCATION:Chilton County Extension Office\, 504 1st Avenue\, Clanton\, AL\, 35045\, US
ORGANIZER;CN="Brandy Childress":MAILTO:bpp0005@auburn.edu
END:VEVENT
END:VCALENDAR