BEGIN:VCALENDAR
VERSION:2.0
PRODID:-//Alabama Cooperative Extension System - ECPv6.2.5//NONSGML v1.0//EN
CALSCALE:GREGORIAN
METHOD:PUBLISH
X-WR-CALNAME:Alabama Cooperative Extension System
X-ORIGINAL-URL:https://www.aces.edu
X-WR-CALDESC:Events for Alabama Cooperative Extension System
REFRESH-INTERVAL;VALUE=DURATION:PT1H
X-Robots-Tag:noindex
X-PUBLISHED-TTL:PT1H
BEGIN:VTIMEZONE
TZID:America/Chicago
BEGIN:DAYLIGHT
TZOFFSETFROM:-0600
TZOFFSETTO:-0500
TZNAME:CDT
DTSTART:20260308T080000
END:DAYLIGHT
BEGIN:STANDARD
TZOFFSETFROM:-0500
TZOFFSETTO:-0600
TZNAME:CST
DTSTART:20261101T070000
END:STANDARD
END:VTIMEZONE
BEGIN:VEVENT
DTSTART;TZID=America/Chicago:20260408T090000
DTEND;TZID=America/Chicago:20260408T120000
DTSTAMP:20260423T122233
CREATED:20260303T194022Z
LAST-MODIFIED:20260408T214208Z
UID:174435-1775638800-1775649600@www.aces.edu
SUMMARY:Garden to Pantry- Greensboro
DESCRIPTION:Strawberry/blueberry production from the garden to the pantry \n The Alabama Cooperative Extension System (Alabama A&M University and Auburn University) is an equal opportunity educator\, employer\, and provider. If you need a reasonable accommodation or free language access services\, contact Alice Moore at 3342160738 or amm0167@aces.edu by 3/18/2026. \nAddress:Project Horseshoe Farm1202 Main StreetGreensboro\, AL 36744 \nContact:Alice Mooreamm0167@aces.edu(334) 216-0738 \nRegister Online
URL:https://www.aces.edu/event/garden-to-pantry-greensboro/
LOCATION:Project Horseshoe Farm\, 1202 Main Street\, Greensboro\, AL\, 36744\, US
ORGANIZER;CN="Alice Moore":MAILTO:amm0167@aces.edu
END:VEVENT
END:VCALENDAR