BEGIN:VCALENDAR
VERSION:2.0
PRODID:-//Alabama Cooperative Extension System - ECPv6.2.5//NONSGML v1.0//EN
CALSCALE:GREGORIAN
METHOD:PUBLISH
X-WR-CALNAME:Alabama Cooperative Extension System
X-ORIGINAL-URL:https://www.aces.edu
X-WR-CALDESC:Events for Alabama Cooperative Extension System
REFRESH-INTERVAL;VALUE=DURATION:PT1H
X-Robots-Tag:noindex
X-PUBLISHED-TTL:PT1H
BEGIN:VTIMEZONE
TZID:America/Chicago
BEGIN:DAYLIGHT
TZOFFSETFROM:-0600
TZOFFSETTO:-0500
TZNAME:CDT
DTSTART:20260308T080000
END:DAYLIGHT
BEGIN:STANDARD
TZOFFSETFROM:-0500
TZOFFSETTO:-0600
TZNAME:CST
DTSTART:20261101T070000
END:STANDARD
END:VTIMEZONE
BEGIN:VEVENT
DTSTART;TZID=America/Chicago:20260409T130000
DTEND;TZID=America/Chicago:20260409T160000
DTSTAMP:20260423T072511
CREATED:20260303T214012Z
LAST-MODIFIED:20260409T234135Z
UID:174465-1775739600-1775750400@www.aces.edu
SUMMARY:Food Preservation for Marion County
DESCRIPTION:Please join us at Marion County Extension Office for our hands on food preservation class to learn how to pressure can carrots. \n The Alabama Cooperative Extension System (Alabama A&M University and Auburn University) is an equal opportunity educator\, employer\, and provider. If you need a reasonable accommodation or free language access services\, contact Susan Hill at 12052691748 or hillaps@auburn.edu by 3/19/2026. \nAddress:Marion County Extension Office372 7th Ave SWHamilton\, AL\, AL 35553 \nContact:Susan Hillhillaps@auburn.edu12052691748 \nRegister Online
URL:https://www.aces.edu/event/food-preservation-for-marion-county/
LOCATION:Marion County Extension Office\, 372 7th Ave SW\, Hamilton\, AL\, AL\, 35553\, US
ORGANIZER;CN="Susan Hill":MAILTO:hillaps@auburn.edu
END:VEVENT
END:VCALENDAR