BEGIN:VCALENDAR
VERSION:2.0
PRODID:-//Alabama Cooperative Extension System - ECPv6.2.5//NONSGML v1.0//EN
CALSCALE:GREGORIAN
METHOD:PUBLISH
X-WR-CALNAME:Alabama Cooperative Extension System
X-ORIGINAL-URL:https://www.aces.edu
X-WR-CALDESC:Events for Alabama Cooperative Extension System
REFRESH-INTERVAL;VALUE=DURATION:PT1H
X-Robots-Tag:noindex
X-PUBLISHED-TTL:PT1H
BEGIN:VTIMEZONE
TZID:America/Chicago
BEGIN:DAYLIGHT
TZOFFSETFROM:-0600
TZOFFSETTO:-0500
TZNAME:CDT
DTSTART:20260308T080000
END:DAYLIGHT
BEGIN:STANDARD
TZOFFSETFROM:-0500
TZOFFSETTO:-0600
TZNAME:CST
DTSTART:20261101T070000
END:STANDARD
END:VTIMEZONE
BEGIN:VEVENT
DTSTART;TZID=America/Chicago:20260514T120000
DTEND;TZID=America/Chicago:20260514T140000
DTSTAMP:20260421T014845
CREATED:20260420T214017Z
LAST-MODIFIED:20260421T064033Z
UID:178025-1778760000-1778767200@www.aces.edu
SUMMARY:Beef Quality Assurance Training & Certification
DESCRIPTION:Participants will receive on-site Beef Quality Assurance Training\, be administered a test\, then receive their Alabama BQA Certification. \n The Alabama Cooperative Extension System (Alabama A&M University and Auburn University) is an equal opportunity educator\, employer\, and provider. If you need a reasonable accommodation or free language access services\, contact Court Green-Johnson at 12056596796 or cgd0040@aces.edu by 4/23/2026. \nAddress:Service Center Building155 Reform StreetCarrollton\, AL 35447 \nContact:Court Green-Johnsoncgd0040@aces.edu12056596796 \nRegister Online
URL:https://www.aces.edu/event/beef-quality-assurance-training-certification/
LOCATION:Service Center Building\, 155 Reform Street\, Carrollton\, AL\, 35447\, US
ORGANIZER;CN="Court Green-Johnson":MAILTO:cgd0040@aces.edu
END:VEVENT
END:VCALENDAR