BEGIN:VCALENDAR
VERSION:2.0
PRODID:-//Alabama Cooperative Extension System - ECPv6.2.5//NONSGML v1.0//EN
CALSCALE:GREGORIAN
METHOD:PUBLISH
X-WR-CALNAME:Alabama Cooperative Extension System
X-ORIGINAL-URL:https://www.aces.edu
X-WR-CALDESC:Events for Alabama Cooperative Extension System
REFRESH-INTERVAL;VALUE=DURATION:PT1H
X-Robots-Tag:noindex
X-PUBLISHED-TTL:PT1H
BEGIN:VTIMEZONE
TZID:America/Chicago
BEGIN:DAYLIGHT
TZOFFSETFROM:-0600
TZOFFSETTO:-0500
TZNAME:CDT
DTSTART:20260308T080000
END:DAYLIGHT
BEGIN:STANDARD
TZOFFSETFROM:-0500
TZOFFSETTO:-0600
TZNAME:CST
DTSTART:20261101T070000
END:STANDARD
END:VTIMEZONE
BEGIN:VEVENT
DTSTART;TZID=America/Chicago:20260324T073000
DTEND;TZID=America/Chicago:20260325T153000
DTSTAMP:20260424T020831
CREATED:20260116T213513Z
LAST-MODIFIED:20260321T084107Z
UID:170241-1774337400-1774452600@www.aces.edu
SUMMARY:Arborists' Review
DESCRIPTION:Two day workshop for people seeking their Certified Arborists exam. Current ISA Certified Arborists can receive up to 12 CEU’s for attendance. People interested in trees\, tree care\, and urban forestry are invited. \n The Alabama Cooperative Extension System (Alabama A&M University and Auburn University) is an equal opportunity educator\, employer\, and provider. If you need a reasonable accommodation or free language access services\, contact WILLIAM ROWE at 12515895572 or wjr0001@aces.edu by 3/2/2026. \nThis event has multiple sessions: \n\nSession 1 – March 23\, 2026 at 7:30 AM to 3:30 PM\nSession 2 – March 24\, 2026 at 7:30 AM to 3:30 PM\n\nAddress:North Alabama Agriplex1714 Tally Ho StCullman\, AL 35055 \nContact:WILLIAM ROWEwjr0001@aces.edu12515895572 \nRegister Online
URL:https://www.aces.edu/event/arborists-review-2/
LOCATION:North Alabama Agriplex\, 1714 Tally Ho St\, Cullman\, AL\, 35055\, US
ORGANIZER;CN="WILLIAM ROWE":MAILTO:wjr0001@aces.edu
END:VEVENT
END:VCALENDAR