BEGIN:VCALENDAR
VERSION:2.0
PRODID:-//Alabama Cooperative Extension System - ECPv6.2.5//NONSGML v1.0//EN
CALSCALE:GREGORIAN
METHOD:PUBLISH
X-WR-CALNAME:Alabama Cooperative Extension System
X-ORIGINAL-URL:https://www.aces.edu
X-WR-CALDESC:Events for Alabama Cooperative Extension System
REFRESH-INTERVAL;VALUE=DURATION:PT1H
X-Robots-Tag:noindex
X-PUBLISHED-TTL:PT1H
BEGIN:VTIMEZONE
TZID:America/Chicago
BEGIN:DAYLIGHT
TZOFFSETFROM:-0600
TZOFFSETTO:-0500
TZNAME:CDT
DTSTART:20260308T080000
END:DAYLIGHT
BEGIN:STANDARD
TZOFFSETFROM:-0500
TZOFFSETTO:-0600
TZNAME:CST
DTSTART:20261101T070000
END:STANDARD
END:VTIMEZONE
BEGIN:VEVENT
DTSTART;TZID=America/Chicago:20260703T190000
DTEND;TZID=America/Chicago:20261127T183000
DTSTAMP:20260422T091420
CREATED:20260209T235047Z
LAST-MODIFIED:20260329T034139Z
UID:172418-1783105200-1795804200@www.aces.edu
SUMMARY:AAMU IPM Field Guide Webinar
DESCRIPTION:This is monthly webinar to educate participants on cost-effective\, sustainable pest management solutions that help reduce crop losses\, lower input costs\, and improve long-term farm productivity—all designed to be immediately applicable on small farms. \n The Alabama Cooperative Extension System (Alabama A&M University and Auburn University) is an equal opportunity educator\, employer\, and provider. If you need a reasonable accommodation or free language access services\, contact Clement Akotsen-Mensah at 2569240457 or akotscl@auburn.edu by 3/6/2026. \nThis event has multiple sessions: \n\nSession 1 – March 27\, 2026 at 5:30 PM to 6:30 PM\nSession 2 – May 8\, 2026 at 7:00 PM to 6:30 PM\nSession 3 – June 5\, 2026 at 7:00 PM to 6:30 PM\nSession 4 – July 3\, 2026 at 7:00 PM to 6:30 PM\nSession 5 – August 7\, 2026 at 7:00 PM to 6:30 PM\nSession 6 – September 2\, 2026 at 7:00 PM to 6:30 PM\nSession 7 – October 2\, 2026 at 7:00 PM to 6:30 PM\nSession 8 – November 6\, 2026 at 6:00 PM to 6:30 PM\nSession 9 – December 4\, 2026 at 6:00 PM to 6:30 PM\n\nContact:Clement Akotsen-Mensahakotscl@auburn.edu(256) 924-0457 \nRegister Online
URL:https://www.aces.edu/event/aamu-ipm-field-guide-webinar-4/
LOCATION:Online\, Online\, AL\, US
ORGANIZER;CN="Clement Akotsen-Mensah":MAILTO:akotscl@auburn.edu
END:VEVENT
END:VCALENDAR