BEGIN:VCALENDAR
VERSION:2.0
PRODID:-//Alabama Cooperative Extension System - ECPv6.2.5//NONSGML v1.0//EN
CALSCALE:GREGORIAN
METHOD:PUBLISH
X-WR-CALNAME:Alabama Cooperative Extension System
X-ORIGINAL-URL:https://www.aces.edu
X-WR-CALDESC:Events for Alabama Cooperative Extension System
REFRESH-INTERVAL;VALUE=DURATION:PT1H
X-Robots-Tag:noindex
X-PUBLISHED-TTL:PT1H
BEGIN:VTIMEZONE
TZID:America/Chicago
BEGIN:DAYLIGHT
TZOFFSETFROM:-0600
TZOFFSETTO:-0500
TZNAME:CDT
DTSTART:20260308T080000
END:DAYLIGHT
BEGIN:STANDARD
TZOFFSETFROM:-0500
TZOFFSETTO:-0600
TZNAME:CST
DTSTART:20261101T070000
END:STANDARD
END:VTIMEZONE
BEGIN:VEVENT
DTSTART;TZID=America/Chicago:20260120T133000
DTEND;TZID=America/Chicago:20260121T163000
DTSTAMP:20260424T190854
CREATED:20251117T193452Z
LAST-MODIFIED:20260121T233629Z
UID:165449-1768915800-1769013000@www.aces.edu
SUMMARY:2026 Row Crops Short Course
DESCRIPTION:This statewide conference is held yearly and offer an opportunity to hear the latest information from researchers\, industry representatives\, and extension professionals about row crop management and production in Alabama. \n The Alabama Cooperative Extension System (Alabama A&M University and Auburn University) is an equal opportunity educator\, employer\, and provider. If you need a reasonable accommodation or free language access services\, contact Eros Artur Bohac Francisco at 13347408016 or ezf0034@auburn.edu by 12/30/2025. \nAddress:Doster Community Center424 South Northington StreetPrattville\, AL 36067 \nContact:Eros Artur Bohac Franciscoezf0034@auburn.edu13347408016 \nRegister Online
URL:https://www.aces.edu/event/2026-row-crops-short-course/
LOCATION:Doster Community Center\, 424 South Northington Street\, Prattville\, AL\, 36067\, US
ORGANIZER;CN="Eros Artur Bohac Francisco":MAILTO:ezf0034@auburn.edu
END:VEVENT
END:VCALENDAR